BEGIN:VCALENDAR
VERSION:2.0
PRODID:-//Institut Français Hypnose Humaniste &amp; Ericksonienne - ECPv4.6.2//NONSGML v1.0//EN
CALSCALE:GREGORIAN
METHOD:PUBLISH
X-WR-CALNAME:Institut Français Hypnose Humaniste &amp; Ericksonienne
X-ORIGINAL-URL:https://hypnose-ericksonienne.com
X-WR-CALDESC:Events for Institut Français Hypnose Humaniste &amp; Ericksonienne
BEGIN:VEVENT
DTSTART;VALUE=DATE:20200222
DTEND;VALUE=DATE:20200224
DTSTAMP:20260422T111857
CREATED:20191105T084859Z
LAST-MODIFIED:20200217T092052Z
UID:9277470-1582329600-1582502399@hypnose-ericksonienne.com
SUMMARY:AUTO-HYPNOSE - TOULOUSE
DESCRIPTION:Confiance en soi \n
URL:https://hypnose-ericksonienne.com/e/auto-hypnose-11/
LOCATION:Adresse Toulouse...\, Toulouse\, CP...\, France
CATEGORIES:Auto-Hypnose
END:VEVENT
END:VCALENDAR