BEGIN:VCALENDAR
VERSION:2.0
PRODID:-//Institut Français Hypnose Humaniste &amp; Ericksonienne - ECPv4.6.2//NONSGML v1.0//EN
CALSCALE:GREGORIAN
METHOD:PUBLISH
X-WR-CALNAME:Institut Français Hypnose Humaniste &amp; Ericksonienne
X-ORIGINAL-URL:https://hypnose-ericksonienne.com
X-WR-CALDESC:Events for Institut Français Hypnose Humaniste &amp; Ericksonienne
BEGIN:VEVENT
DTSTART;VALUE=DATE:20201205
DTEND;VALUE=DATE:20201207
DTSTAMP:20260419T224440
CREATED:20190115T155425Z
LAST-MODIFIED:20201204T105815Z
UID:9276854-1607126400-1607299199@hypnose-ericksonienne.com
SUMMARY:AUTO-HYPNOSE
DESCRIPTION:Confiance en soi \n
URL:https://hypnose-ericksonienne.com/e/auto-hypnose-15/
LOCATION:60 rue Carnot\, Boulogne-Billancourt\, 92100 \, France
CATEGORIES:Auto-Hypnose
END:VEVENT
END:VCALENDAR