BEGIN:VCALENDAR
VERSION:2.0
PRODID:-//Institut Français Hypnose Humaniste &amp; Ericksonienne - ECPv4.6.2//NONSGML v1.0//EN
CALSCALE:GREGORIAN
METHOD:PUBLISH
X-WR-CALNAME:Institut Français Hypnose Humaniste &amp; Ericksonienne
X-ORIGINAL-URL:https://hypnose-ericksonienne.com
X-WR-CALDESC:Events for Institut Français Hypnose Humaniste &amp; Ericksonienne
BEGIN:VEVENT
DTSTART;VALUE=DATE:20211211
DTEND;VALUE=DATE:20211213
DTSTAMP:20260419T194445
CREATED:20210126T101818Z
LAST-MODIFIED:20211210T141301Z
UID:9278398-1639180800-1639353599@hypnose-ericksonienne.com
SUMMARY:AUTO-HYPNOSE
DESCRIPTION:Confiance en Soi \n
URL:https://hypnose-ericksonienne.com/e/auto-hypnose-30/
LOCATION:60 rue Carnot\, Boulogne-Billancourt\, 92100 \, France
CATEGORIES:Auto-Hypnose
END:VEVENT
END:VCALENDAR