BEGIN:VCALENDAR
VERSION:2.0
PRODID:-//Institut Français Hypnose Humaniste &amp; Ericksonienne - ECPv4.6.2//NONSGML v1.0//EN
CALSCALE:GREGORIAN
METHOD:PUBLISH
X-WR-CALNAME:Institut Français Hypnose Humaniste &amp; Ericksonienne
X-ORIGINAL-URL:https://hypnose-ericksonienne.com
X-WR-CALDESC:Events for Institut Français Hypnose Humaniste &amp; Ericksonienne
BEGIN:VEVENT
DTSTART;VALUE=DATE:20181208
DTEND;VALUE=DATE:20181210
DTSTAMP:20260423T015817
CREATED:20171110T110236Z
LAST-MODIFIED:20181206T155725Z
UID:9395-1544227200-1544399999@hypnose-ericksonienne.com
SUMMARY:AUTO-HYPNOSE - CONFIANCE EN SOI
DESCRIPTION:Confiance en soi \n
URL:https://hypnose-ericksonienne.com/e/auto-hypnose-confiance-soi-3/
LOCATION:60 rue Carnot\, Boulogne-Billancourt\, 92100 \, France
CATEGORIES:Auto-Hypnose
END:VEVENT
END:VCALENDAR