BEGIN:VCALENDAR
VERSION:2.0
PRODID:-//Institut Français Hypnose Humaniste &amp; Ericksonienne - ECPv4.6.2//NONSGML v1.0//EN
CALSCALE:GREGORIAN
METHOD:PUBLISH
X-WR-CALNAME:Institut Français Hypnose Humaniste &amp; Ericksonienne
X-ORIGINAL-URL:https://hypnose-ericksonienne.com
X-WR-CALDESC:Events for Institut Français Hypnose Humaniste &amp; Ericksonienne
BEGIN:VEVENT
DTSTART;VALUE=DATE:20190126
DTEND;VALUE=DATE:20190128
DTSTAMP:20260422T221312
CREATED:20180323T154154Z
LAST-MODIFIED:20190116T135237Z
UID:9276256-1548460800-1548633599@hypnose-ericksonienne.com
SUMMARY:AUTO-HYPNOSE - QUALITE DE VIE
DESCRIPTION:Qualité de vie \n
URL:https://hypnose-ericksonienne.com/e/auto-hypnose-confiance-soi-4/
LOCATION:60 rue Carnot\, Boulogne-Billancourt\, 92100 \, France
CATEGORIES:Auto-Hypnose
END:VEVENT
END:VCALENDAR