BEGIN:VCALENDAR
VERSION:2.0
PRODID:-//Institut Français Hypnose Humaniste &amp; Ericksonienne - ECPv4.6.2//NONSGML v1.0//EN
CALSCALE:GREGORIAN
METHOD:PUBLISH
X-WR-CALNAME:Institut Français Hypnose Humaniste &amp; Ericksonienne
X-ORIGINAL-URL:https://hypnose-ericksonienne.com
X-WR-CALDESC:Events for Institut Français Hypnose Humaniste &amp; Ericksonienne
BEGIN:VEVENT
DTSTART;TZID=Europe/Paris:20180324T080000
DTEND;TZID=Europe/Paris:20180325T170000
DTSTAMP:20260424T011833
CREATED:20170627T141700Z
LAST-MODIFIED:20180323T080245Z
UID:8925-1521878400-1521997200@hypnose-ericksonienne.com
SUMMARY:AUTO-HYPNOSE - QUALITE DE VIE
DESCRIPTION:Qualité de vie \n
URL:https://hypnose-ericksonienne.com/e/auto-hypnose-qualite-de-vie-2/
LOCATION:60 rue Carnot\, Boulogne-Billancourt\, 92100 \, France
CATEGORIES:Auto-Hypnose
END:VEVENT
END:VCALENDAR