BEGIN:VCALENDAR
VERSION:2.0
PRODID:-//Institut Français Hypnose Humaniste &amp; Ericksonienne - ECPv4.6.2//NONSGML v1.0//EN
CALSCALE:GREGORIAN
METHOD:PUBLISH
X-WR-CALNAME:Institut Français Hypnose Humaniste &amp; Ericksonienne
X-ORIGINAL-URL:https://hypnose-ericksonienne.com
X-WR-CALDESC:Events for Institut Français Hypnose Humaniste &amp; Ericksonienne
BEGIN:VEVENT
DTSTART;VALUE=DATE:20190511
DTEND;VALUE=DATE:20190513
DTSTAMP:20260421T224017
CREATED:20170627T142327Z
LAST-MODIFIED:20190507T125352Z
UID:8931-1557532800-1557705599@hypnose-ericksonienne.com
SUMMARY:AUTO-HYPNOSE - CONFIANCE EN SOI
DESCRIPTION:Confiance en soi \n
URL:https://hypnose-ericksonienne.com/e/auto-hypnose-stress-a-joie-de-vivre-2/
LOCATION:60 rue Carnot\, Boulogne-Billancourt\, 92100 \, France
CATEGORIES:Auto-Hypnose
END:VEVENT
END:VCALENDAR