BEGIN:VCALENDAR
VERSION:2.0
PRODID:-//Institut Français Hypnose Humaniste &amp; Ericksonienne - ECPv4.6.2//NONSGML v1.0//EN
CALSCALE:GREGORIAN
METHOD:PUBLISH
X-WR-CALNAME:Institut Français Hypnose Humaniste &amp; Ericksonienne
X-ORIGINAL-URL:https://hypnose-ericksonienne.com
X-WR-CALDESC:Events for Institut Français Hypnose Humaniste &amp; Ericksonienne
BEGIN:VEVENT
DTSTART;VALUE=DATE:20181117
DTEND;VALUE=DATE:20181119
DTSTAMP:20260423T072734
CREATED:20171110T105540Z
LAST-MODIFIED:20181115T090924Z
UID:9393-1542412800-1542585599@hypnose-ericksonienne.com
SUMMARY:AUTO-HYPNOSE - DU STRESS A LA JOIE DE VIVRE
DESCRIPTION:Du Stress à la joie de vivre \n
URL:https://hypnose-ericksonienne.com/e/auto-hypnose-stress-a-joie-de-vivre-3/
LOCATION:60 rue Carnot\, Boulogne-Billancourt\, 92100 \, France
CATEGORIES:Auto-Hypnose
END:VEVENT
END:VCALENDAR