BEGIN:VCALENDAR
VERSION:2.0
PRODID:-//Institut Français Hypnose Humaniste &amp; Ericksonienne - ECPv4.6.2//NONSGML v1.0//EN
CALSCALE:GREGORIAN
METHOD:PUBLISH
X-WR-CALNAME:Institut Français Hypnose Humaniste &amp; Ericksonienne
X-ORIGINAL-URL:https://hypnose-ericksonienne.com
X-WR-CALDESC:Events for Institut Français Hypnose Humaniste &amp; Ericksonienne
BEGIN:VEVENT
DTSTART;TZID=Europe/Paris:20171118T080000
DTEND;TZID=Europe/Paris:20171119T170000
DTSTAMP:20260424T000705
CREATED:20170627T142219Z
LAST-MODIFIED:20180329T082658Z
UID:8929-1510992000-1511110800@hypnose-ericksonienne.com
SUMMARY:AUTO-HYPNOSE - DU STRESS A LA JOIE DE VIVRE
DESCRIPTION:Du Stress à la joie de vivre \n
URL:https://hypnose-ericksonienne.com/e/auto-hypnose-stress-a-joie-de-vivre/
LOCATION:60 rue Carnot\, Boulogne-Billancourt\, 92100 \, France
CATEGORIES:Auto-Hypnose
END:VEVENT
END:VCALENDAR