BEGIN:VCALENDAR
VERSION:2.0
PRODID:-//Institut Français Hypnose Humaniste &amp; Ericksonienne - ECPv4.6.2//NONSGML v1.0//EN
CALSCALE:GREGORIAN
METHOD:PUBLISH
X-WR-CALNAME:Institut Français Hypnose Humaniste &amp; Ericksonienne
X-ORIGINAL-URL:https://hypnose-ericksonienne.com
X-WR-CALDESC:Events for Institut Français Hypnose Humaniste &amp; Ericksonienne
BEGIN:VEVENT
DTSTART;TZID=Europe/Paris:20171007T080000
DTEND;TZID=Europe/Paris:20171008T170000
DTSTAMP:20260424T080958
CREATED:20170627T140607Z
LAST-MODIFIED:20170704T143902Z
UID:8919-1507363200-1507482000@hypnose-ericksonienne.com
SUMMARY:AUTO-HYPNOSE - TRANSGENERATIONNEL
DESCRIPTION:Transgénérationnel \n  \n
URL:https://hypnose-ericksonienne.com/e/auto-hypnose-transgenerationnel/
LOCATION:60 rue Carnot\, Boulogne-Billancourt\, 92100 \, France
CATEGORIES:Auto-Hypnose
END:VEVENT
END:VCALENDAR