BEGIN:VCALENDAR
VERSION:2.0
PRODID:-//Institut Français Hypnose Humaniste &amp; Ericksonienne - ECPv4.6.2//NONSGML v1.0//EN
CALSCALE:GREGORIAN
METHOD:PUBLISH
X-WR-CALNAME:Institut Français Hypnose Humaniste &amp; Ericksonienne
X-ORIGINAL-URL:https://hypnose-ericksonienne.com
X-WR-CALDESC:Events for Institut Français Hypnose Humaniste &amp; Ericksonienne
BEGIN:VEVENT
DTSTART;VALUE=DATE:20230411
DTEND;VALUE=DATE:20230418
DTSTAMP:20260422T095847
CREATED:20211215T125312Z
LAST-MODIFIED:20230407T132121Z
UID:9279061-1681171200-1681775999@hypnose-ericksonienne.com
SUMMARY:TECHNICIEN
DESCRIPTION:
URL:https://hypnose-ericksonienne.com/e/technicien-36/
LOCATION:60 rue Carnot\, Boulogne-Billancourt\, 92100 \, France
CATEGORIES:Technicien
END:VEVENT
BEGIN:VEVENT
DTSTART;VALUE=DATE:20230411
DTEND;VALUE=DATE:20230418
DTSTAMP:20260422T095847
CREATED:20220610T090421Z
LAST-MODIFIED:20230407T132055Z
UID:9279264-1681171200-1681775999@hypnose-ericksonienne.com
SUMMARY:TECHNICIEN
DESCRIPTION:
URL:https://hypnose-ericksonienne.com/e/technicien-34/
LOCATION:E-Learning\, France
CATEGORIES:Technicien
END:VEVENT
END:VCALENDAR