BEGIN:VCALENDAR
VERSION:2.0
PRODID:-//Institut Français Hypnose Humaniste &amp; Ericksonienne - ECPv4.6.2//NONSGML v1.0//EN
CALSCALE:GREGORIAN
METHOD:PUBLISH
X-WR-CALNAME:Institut Français Hypnose Humaniste &amp; Ericksonienne
X-ORIGINAL-URL:https://hypnose-ericksonienne.com
X-WR-CALDESC:Events for Institut Français Hypnose Humaniste &amp; Ericksonienne
BEGIN:VEVENT
DTSTART;VALUE=DATE:20180222
DTEND;VALUE=DATE:20180409
DTSTAMP:20260424T041253
CREATED:20171018T074534Z
LAST-MODIFIED:20171121T175319Z
UID:9316-1519257600-1523231999@hypnose-ericksonienne.com
SUMMARY:Maître-Praticien Hypnose Maroc
DESCRIPTION:
URL:https://hypnose-ericksonienne.com/e/maitre-praticien-hypnose-maroc/
LOCATION:Genève\, Suisse
CATEGORIES:Maître Praticien
END:VEVENT
END:VCALENDAR