BEGIN:VCALENDAR
VERSION:2.0
PRODID:-//Institut Français Hypnose Humaniste &amp; Ericksonienne - ECPv4.6.2//NONSGML v1.0//EN
CALSCALE:GREGORIAN
METHOD:PUBLISH
X-WR-CALNAME:Institut Français Hypnose Humaniste &amp; Ericksonienne
X-ORIGINAL-URL:https://hypnose-ericksonienne.com
X-WR-CALDESC:Events for Institut Français Hypnose Humaniste &amp; Ericksonienne
BEGIN:VEVENT
DTSTART;VALUE=DATE:20210913
DTEND;VALUE=DATE:20211016
DTSTAMP:20260421T160259
CREATED:20210310T081044Z
LAST-MODIFIED:20210911T103414Z
UID:9278539-1631491200-1634342399@hypnose-ericksonienne.com
SUMMARY:MAITRE PRATICIEN HE
DESCRIPTION:
URL:https://hypnose-ericksonienne.com/e/maitre-praticien-he-3/
LOCATION:60 rue Carnot\, Boulogne-Billancourt\, 92100 \, France
CATEGORIES:Maitre Praticien HE,Maître Praticien
END:VEVENT
END:VCALENDAR