BEGIN:VCALENDAR
VERSION:2.0
PRODID:-//Institut Français Hypnose Humaniste &amp; Ericksonienne - ECPv4.6.2//NONSGML v1.0//EN
CALSCALE:GREGORIAN
METHOD:PUBLISH
X-WR-CALNAME:Institut Français Hypnose Humaniste &amp; Ericksonienne
X-ORIGINAL-URL:https://hypnose-ericksonienne.com
X-WR-CALDESC:Events for Institut Français Hypnose Humaniste &amp; Ericksonienne
BEGIN:VEVENT
DTSTART;VALUE=DATE:20190214
DTEND;VALUE=DATE:20190216
DTSTAMP:20260423T011554
CREATED:20180323T151225Z
LAST-MODIFIED:20180611T141302Z
UID:9276217-1550102400-1550275199@hypnose-ericksonienne.com
SUMMARY:HYPNOSE ET TABAC
DESCRIPTION:
URL:https://hypnose-ericksonienne.com/e/hypnose-et-tabac-5/
LOCATION:60 rue Carnot\, Boulogne-Billancourt\, 92100 \, France
CATEGORIES:Hypnose & Tabac
END:VEVENT
END:VCALENDAR