BEGIN:VCALENDAR
VERSION:2.0
PRODID:-//Institut Français Hypnose Humaniste &amp; Ericksonienne - ECPv4.6.2//NONSGML v1.0//EN
CALSCALE:GREGORIAN
METHOD:PUBLISH
X-WR-CALNAME:Institut Français Hypnose Humaniste &amp; Ericksonienne
X-ORIGINAL-URL:https://hypnose-ericksonienne.com
X-WR-CALDESC:Events for Institut Français Hypnose Humaniste &amp; Ericksonienne
BEGIN:VEVENT
DTSTART;VALUE=DATE:20181126
DTEND;VALUE=DATE:20181128
DTSTAMP:20260423T031420
CREATED:20170731T075343Z
LAST-MODIFIED:20181003T135813Z
UID:9131-1543190400-1543363199@hypnose-ericksonienne.com
SUMMARY:CREATIVITE EN HYPNOTHERAPIE
DESCRIPTION:
URL:https://hypnose-ericksonienne.com/e/creativite-en-hypnotherapie-3/
LOCATION:60 rue Carnot\, Boulogne-Billancourt\, 92100 \, France
CATEGORIES:Créativité en hypnothérapie
END:VEVENT
END:VCALENDAR