BEGIN:VCALENDAR
VERSION:2.0
PRODID:-//Institut Français Hypnose Humaniste &amp; Ericksonienne - ECPv4.6.2//NONSGML v1.0//EN
CALSCALE:GREGORIAN
METHOD:PUBLISH
X-WR-CALNAME:Institut Français Hypnose Humaniste &amp; Ericksonienne
X-ORIGINAL-URL:https://hypnose-ericksonienne.com
X-WR-CALDESC:Events for Institut Français Hypnose Humaniste &amp; Ericksonienne
BEGIN:VEVENT
DTSTART;VALUE=DATE:20171122
DTEND;VALUE=DATE:20171125
DTSTAMP:20260423T223227
CREATED:20170707T133542Z
LAST-MODIFIED:20180504T110430Z
UID:9020-1511308800-1511567999@hypnose-ericksonienne.com
SUMMARY:HYPNOSE CLASSIQUE 11/2017
DESCRIPTION:Thérapeutique \n
URL:https://hypnose-ericksonienne.com/e/hypnose-classique-2/
LOCATION:60 rue Carnot\, Boulogne-Billancourt\, 92100 \, France
CATEGORIES:Hypnose Classique
END:VEVENT
END:VCALENDAR