BEGIN:VCALENDAR
VERSION:2.0
PRODID:-//Institut Français Hypnose Humaniste &amp; Ericksonienne - ECPv4.6.2//NONSGML v1.0//EN
CALSCALE:GREGORIAN
METHOD:PUBLISH
X-WR-CALNAME:Institut Français Hypnose Humaniste &amp; Ericksonienne
X-ORIGINAL-URL:https://hypnose-ericksonienne.com
X-WR-CALDESC:Events for Institut Français Hypnose Humaniste &amp; Ericksonienne
BEGIN:VEVENT
DTSTART;VALUE=DATE:20191007
DTEND;VALUE=DATE:20191010
DTSTAMP:20260422T184753
CREATED:20181019T125639Z
LAST-MODIFIED:20181019T125639Z
UID:9276627-1570406400-1570665599@hypnose-ericksonienne.com
SUMMARY:HYPNOSE CLASSIQUE
DESCRIPTION:Spectacle \n
URL:https://hypnose-ericksonienne.com/e/hypnose-classique-4/
LOCATION:60 rue Carnot\, Boulogne-Billancourt\, 92100 \, France
CATEGORIES:Hypnose Classique
END:VEVENT
END:VCALENDAR