BEGIN:VCALENDAR
VERSION:2.0
PRODID:-//Institut Français Hypnose Humaniste &amp; Ericksonienne - ECPv4.6.2//NONSGML v1.0//EN
CALSCALE:GREGORIAN
METHOD:PUBLISH
X-WR-CALNAME:Institut Français Hypnose Humaniste &amp; Ericksonienne
X-ORIGINAL-URL:https://hypnose-ericksonienne.com
X-WR-CALDESC:Events for Institut Français Hypnose Humaniste &amp; Ericksonienne
BEGIN:VEVENT
DTSTART;VALUE=DATE:20181113
DTEND;VALUE=DATE:20181116
DTSTAMP:20260423T072005
CREATED:20180323T154519Z
LAST-MODIFIED:20180323T154519Z
UID:9276262-1542067200-1542326399@hypnose-ericksonienne.com
SUMMARY:HYPNOSE CLASSIQUE
DESCRIPTION:
URL:https://hypnose-ericksonienne.com/e/hypnose-classique-5/
LOCATION:60 rue Carnot\, Boulogne-Billancourt\, 92100 \, France
END:VEVENT
END:VCALENDAR