BEGIN:VCALENDAR
VERSION:2.0
PRODID:-//Institut Français Hypnose Humaniste &amp; Ericksonienne - ECPv4.6.2//NONSGML v1.0//EN
CALSCALE:GREGORIAN
METHOD:PUBLISH
X-WR-CALNAME:Institut Français Hypnose Humaniste &amp; Ericksonienne
X-ORIGINAL-URL:https://hypnose-ericksonienne.com
X-WR-CALDESC:Events for Institut Français Hypnose Humaniste &amp; Ericksonienne
BEGIN:VEVENT
DTSTART;VALUE=DATE:20190624
DTEND;VALUE=DATE:20190627
DTSTAMP:20260421T170739
CREATED:20190312T135651Z
LAST-MODIFIED:20190312T135651Z
UID:9277028-1561334400-1561593599@hypnose-ericksonienne.com
SUMMARY:HYPNOSE CLASSIQUE
DESCRIPTION:Spectacle \n
URL:https://hypnose-ericksonienne.com/e/hypnose-classique-6/
LOCATION:Adresse à Lyon...\, Lyon\, CP...\, France
CATEGORIES:Hypnose Classique
END:VEVENT
END:VCALENDAR