BEGIN:VCALENDAR
VERSION:2.0
PRODID:-//Institut Français Hypnose Humaniste &amp; Ericksonienne - ECPv4.6.2//NONSGML v1.0//EN
CALSCALE:GREGORIAN
METHOD:PUBLISH
X-WR-CALNAME:Institut Français Hypnose Humaniste &amp; Ericksonienne
X-ORIGINAL-URL:https://hypnose-ericksonienne.com
X-WR-CALDESC:Events for Institut Français Hypnose Humaniste &amp; Ericksonienne
BEGIN:VEVENT
DTSTART;VALUE=DATE:20200224
DTEND;VALUE=DATE:20200227
DTSTAMP:20260422T095228
CREATED:20190619T142455Z
LAST-MODIFIED:20190621T132556Z
UID:9277280-1582502400-1582761599@hypnose-ericksonienne.com
SUMMARY:HYPNOSE CLASSIQUE
DESCRIPTION:Spectacle \n
URL:https://hypnose-ericksonienne.com/e/hypnose-classique-8/
LOCATION:Adresse à Lyon...\, Lyon\, CP...\, France
CATEGORIES:Hypnose Classique
END:VEVENT
END:VCALENDAR