BEGIN:VCALENDAR
VERSION:2.0
PRODID:-//Institut Français Hypnose Humaniste &amp; Ericksonienne - ECPv4.6.2//NONSGML v1.0//EN
CALSCALE:GREGORIAN
METHOD:PUBLISH
X-WR-CALNAME:Institut Français Hypnose Humaniste &amp; Ericksonienne
X-ORIGINAL-URL:https://hypnose-ericksonienne.com
X-WR-CALDESC:Events for Institut Français Hypnose Humaniste &amp; Ericksonienne
BEGIN:VEVENT
DTSTART;VALUE=DATE:20180627
DTEND;VALUE=DATE:20180630
DTSTAMP:20260423T183943
CREATED:20170627T101736Z
LAST-MODIFIED:20180504T110408Z
UID:8872-1530057600-1530316799@hypnose-ericksonienne.com
SUMMARY:HYPNOSE CLASSIQUE 06/2018
DESCRIPTION:Thérapeutique \n
URL:https://hypnose-ericksonienne.com/e/hypnose-classique/
LOCATION:60 rue Carnot\, Boulogne-Billancourt\, 92100 \, France
CATEGORIES:Hypnose Classique
END:VEVENT
END:VCALENDAR