BEGIN:VCALENDAR
VERSION:2.0
PRODID:-//Institut Français Hypnose Humaniste &amp; Ericksonienne - ECPv4.6.2//NONSGML v1.0//EN
CALSCALE:GREGORIAN
METHOD:PUBLISH
X-WR-CALNAME:Institut Français Hypnose Humaniste &amp; Ericksonienne
X-ORIGINAL-URL:https://hypnose-ericksonienne.com
X-WR-CALDESC:Events for Institut Français Hypnose Humaniste &amp; Ericksonienne
BEGIN:VEVENT
DTSTART;VALUE=DATE:20181008
DTEND;VALUE=DATE:20181011
DTSTAMP:20260423T090433
CREATED:20180329T081005Z
LAST-MODIFIED:20181002T133803Z
UID:9276301-1538956800-1539215999@hypnose-ericksonienne.com
SUMMARY:HYPNOSE DE SPECTACLE
DESCRIPTION:Spectacle \n
URL:https://hypnose-ericksonienne.com/e/hypnose-de-spectacle/
LOCATION:60 rue Carnot\, Boulogne-Billancourt\, 92100 \, France
CATEGORIES:Hypnose Classique
END:VEVENT
END:VCALENDAR