BEGIN:VCALENDAR
VERSION:2.0
PRODID:-//Institut Français Hypnose Humaniste &amp; Ericksonienne - ECPv4.6.2//NONSGML v1.0//EN
CALSCALE:GREGORIAN
METHOD:PUBLISH
X-WR-CALNAME:Institut Français Hypnose Humaniste &amp; Ericksonienne
X-ORIGINAL-URL:https://hypnose-ericksonienne.com
X-WR-CALDESC:Events for Institut Français Hypnose Humaniste &amp; Ericksonienne
BEGIN:VEVENT
DTSTART;TZID=Europe/Paris:20180129T080000
DTEND;TZID=Europe/Paris:20180131T170000
DTSTAMP:20260423T184923
CREATED:20170627T135308Z
LAST-MODIFIED:20180126T081132Z
UID:8909-1517212800-1517418000@hypnose-ericksonienne.com
SUMMARY:HYPNOSE ET POIDS
DESCRIPTION:
URL:https://hypnose-ericksonienne.com/e/hypnose-et-poids-2/
LOCATION:60 rue Carnot\, Boulogne-Billancourt\, 92100 \, France
CATEGORIES:Hypnose & Poids
END:VEVENT
END:VCALENDAR