BEGIN:VCALENDAR
VERSION:2.0
PRODID:-//Institut Français Hypnose Humaniste &amp; Ericksonienne - ECPv4.6.2//NONSGML v1.0//EN
CALSCALE:GREGORIAN
METHOD:PUBLISH
X-WR-CALNAME:Institut Français Hypnose Humaniste &amp; Ericksonienne
X-ORIGINAL-URL:https://hypnose-ericksonienne.com
X-WR-CALDESC:Events for Institut Français Hypnose Humaniste &amp; Ericksonienne
BEGIN:VEVENT
DTSTART;VALUE=DATE:20180117
DTEND;VALUE=DATE:20180120
DTSTAMP:20260423T223254
CREATED:20170627T135209Z
LAST-MODIFIED:20171113T093922Z
UID:8907-1516147200-1516406399@hypnose-ericksonienne.com
SUMMARY:HYPNOSE ET POIDS
DESCRIPTION:
URL:https://hypnose-ericksonienne.com/e/hypnose-et-poids/
LOCATION:60 rue Carnot\, Boulogne-Billancourt\, 92100 \, France
CATEGORIES:Hypnose & Poids
END:VEVENT
END:VCALENDAR