BEGIN:VCALENDAR
VERSION:2.0
PRODID:-//Institut Français Hypnose Humaniste &amp; Ericksonienne - ECPv4.6.2//NONSGML v1.0//EN
CALSCALE:GREGORIAN
METHOD:PUBLISH
X-WR-CALNAME:Institut Français Hypnose Humaniste &amp; Ericksonienne
X-ORIGINAL-URL:https://hypnose-ericksonienne.com
X-WR-CALDESC:Events for Institut Français Hypnose Humaniste &amp; Ericksonienne
BEGIN:VEVENT
DTSTART;TZID=Europe/Paris:20171120T080000
DTEND;TZID=Europe/Paris:20171121T170000
DTSTAMP:20260423T211224
CREATED:20170627T135811Z
LAST-MODIFIED:20170719T125517Z
UID:8915-1511164800-1511283600@hypnose-ericksonienne.com
SUMMARY:HYPNOSE ET TABAC
DESCRIPTION:
URL:https://hypnose-ericksonienne.com/e/hypnose-et-tabac/
LOCATION:60 rue Carnot\, Boulogne-Billancourt\, 92100 \, France
CATEGORIES:Hypnose & Tabac
END:VEVENT
END:VCALENDAR