BEGIN:VCALENDAR
VERSION:2.0
PRODID:-//Institut Français Hypnose Humaniste &amp; Ericksonienne - ECPv4.6.2//NONSGML v1.0//EN
CALSCALE:GREGORIAN
METHOD:PUBLISH
X-WR-CALNAME:Institut Français Hypnose Humaniste &amp; Ericksonienne
X-ORIGINAL-URL:https://hypnose-ericksonienne.com
X-WR-CALDESC:Events for Institut Français Hypnose Humaniste &amp; Ericksonienne
BEGIN:VEVENT
DTSTART;VALUE=DATE:20210609
DTEND;VALUE=DATE:20210612
DTSTAMP:20260419T194650
CREATED:20200210T143256Z
LAST-MODIFIED:20210608T123152Z
UID:9277702-1623196800-1623455999@hypnose-ericksonienne.com
SUMMARY:HYPNOSE ET TRAUMATISME
DESCRIPTION:
URL:https://hypnose-ericksonienne.com/e/hypnose-et-traumatismes-2/
LOCATION:60 rue Carnot\, Boulogne-Billancourt\, 92100 \, France
CATEGORIES:Hypnose et traumatismes
END:VEVENT
END:VCALENDAR