BEGIN:VCALENDAR
VERSION:2.0
PRODID:-//Institut Français Hypnose Humaniste &amp; Ericksonienne - ECPv4.6.2//NONSGML v1.0//EN
CALSCALE:GREGORIAN
METHOD:PUBLISH
X-WR-CALNAME:Institut Français Hypnose Humaniste &amp; Ericksonienne
X-ORIGINAL-URL:https://hypnose-ericksonienne.com
X-WR-CALDESC:Events for Institut Français Hypnose Humaniste &amp; Ericksonienne
BEGIN:VEVENT
DTSTART;VALUE=DATE:20200923
DTEND;VALUE=DATE:20200926
DTSTAMP:20260422T112034
CREATED:20200210T142528Z
LAST-MODIFIED:20200922T153117Z
UID:9277700-1600819200-1601078399@hypnose-ericksonienne.com
SUMMARY:HYPNOSE ET TRAUMATISMES
DESCRIPTION:
URL:https://hypnose-ericksonienne.com/e/hypnose-et-traumatismes/
LOCATION:60 rue Carnot\, Boulogne-Billancourt\, 92100 \, France
CATEGORIES:Hypnose et traumatismes
END:VEVENT
END:VCALENDAR