BEGIN:VCALENDAR
VERSION:2.0
PRODID:-//Institut Français Hypnose Humaniste &amp; Ericksonienne - ECPv4.6.2//NONSGML v1.0//EN
CALSCALE:GREGORIAN
METHOD:PUBLISH
X-WR-CALNAME:Institut Français Hypnose Humaniste &amp; Ericksonienne
X-ORIGINAL-URL:https://hypnose-ericksonienne.com
X-WR-CALDESC:Events for Institut Français Hypnose Humaniste &amp; Ericksonienne
BEGIN:VEVENT
DTSTART;VALUE=DATE:20171120
DTEND;VALUE=DATE:20171125
DTSTAMP:20260423T223614
CREATED:20170909T180252Z
LAST-MODIFIED:20170909T220436Z
UID:9206-1511136000-1511567999@hypnose-ericksonienne.com
SUMMARY:Hypnose Humaniste Montréal 1/3
DESCRIPTION:
URL:https://hypnose-ericksonienne.com/e/hypnose-humaniste-montreal/
LOCATION:Montréal\, Québec\, Canada
CATEGORIES:Praticien 2 HH
END:VEVENT
END:VCALENDAR