BEGIN:VCALENDAR
VERSION:2.0
PRODID:-//Institut Français Hypnose Humaniste &amp; Ericksonienne - ECPv4.6.2//NONSGML v1.0//EN
CALSCALE:GREGORIAN
METHOD:PUBLISH
X-WR-CALNAME:Institut Français Hypnose Humaniste &amp; Ericksonienne
X-ORIGINAL-URL:https://hypnose-ericksonienne.com
X-WR-CALDESC:Events for Institut Français Hypnose Humaniste &amp; Ericksonienne
BEGIN:VEVENT
DTSTART;VALUE=DATE:20200610
DTEND;VALUE=DATE:20200613
DTSTAMP:20260420T051214
CREATED:20190115T151837Z
LAST-MODIFIED:20200609T140307Z
UID:9276811-1591747200-1592006399@hypnose-ericksonienne.com
SUMMARY:HYPNOSE & POIDS
DESCRIPTION:Formation en E-learning \n
URL:https://hypnose-ericksonienne.com/e/hypnose-poids/
LOCATION:60 rue Carnot\, Boulogne-Billancourt\, 92100 \, France
CATEGORIES:Hypnose & Poids
END:VEVENT
END:VCALENDAR