BEGIN:VCALENDAR
VERSION:2.0
PRODID:-//Institut Français Hypnose Humaniste &amp; Ericksonienne - ECPv4.6.2//NONSGML v1.0//EN
CALSCALE:GREGORIAN
METHOD:PUBLISH
X-WR-CALNAME:Institut Français Hypnose Humaniste &amp; Ericksonienne
X-ORIGINAL-URL:https://hypnose-ericksonienne.com
X-WR-CALDESC:Events for Institut Français Hypnose Humaniste &amp; Ericksonienne
BEGIN:VEVENT
DTSTART;VALUE=DATE:20220202
DTEND;VALUE=DATE:20220205
DTSTAMP:20260419T195042
CREATED:20210628T131322Z
LAST-MODIFIED:20220131T110055Z
UID:9278806-1643760000-1644019199@hypnose-ericksonienne.com
SUMMARY:HYPNOSE POUR LE STRESS\, L'ANXIETE ET LA DEPRESSION
DESCRIPTION:
URL:https://hypnose-ericksonienne.com/e/hypnose-stress-lanxiete-depression-2/
LOCATION:60 rue Carnot\, Boulogne-Billancourt\, 92100 \, France
CATEGORIES:Hypnose pour le Stress
END:VEVENT
END:VCALENDAR