BEGIN:VCALENDAR
VERSION:2.0
PRODID:-//Institut Français Hypnose Humaniste &amp; Ericksonienne - ECPv4.6.2//NONSGML v1.0//EN
CALSCALE:GREGORIAN
METHOD:PUBLISH
X-WR-CALNAME:Institut Français Hypnose Humaniste &amp; Ericksonienne
X-ORIGINAL-URL:https://hypnose-ericksonienne.com
X-WR-CALDESC:Events for Institut Français Hypnose Humaniste &amp; Ericksonienne
BEGIN:VEVENT
DTSTART;VALUE=DATE:20200227
DTEND;VALUE=DATE:20200229
DTSTAMP:20260420T083748
CREATED:20190115T151747Z
LAST-MODIFIED:20200221T141548Z
UID:9276809-1582761600-1582934399@hypnose-ericksonienne.com
SUMMARY:HYPNOSE & TABAC
DESCRIPTION:
URL:https://hypnose-ericksonienne.com/e/hypnose-tabac-2/
LOCATION:60 rue Carnot\, Boulogne-Billancourt\, 92100 \, France
CATEGORIES:Hypnose & Tabac
END:VEVENT
END:VCALENDAR