BEGIN:VCALENDAR
VERSION:2.0
PRODID:-//Institut Français Hypnose Humaniste &amp; Ericksonienne - ECPv4.6.2//NONSGML v1.0//EN
CALSCALE:GREGORIAN
METHOD:PUBLISH
X-WR-CALNAME:Institut Français Hypnose Humaniste &amp; Ericksonienne
X-ORIGINAL-URL:https://hypnose-ericksonienne.com
X-WR-CALDESC:Events for Institut Français Hypnose Humaniste &amp; Ericksonienne
BEGIN:VEVENT
DTSTART;TZID=Europe/Paris:20180409T080000
DTEND;TZID=Europe/Paris:20180615T170000
DTSTAMP:20260423T211547
CREATED:20170627T104239Z
LAST-MODIFIED:20180111T141006Z
UID:8884-1523260800-1529082000@hypnose-ericksonienne.com
SUMMARY:HYPNOTHERAPIE DE L'ENFANT - MODULE 1 & 2
DESCRIPTION:Modules 1 & 2 (5 + 5 jours) \n
URL:https://hypnose-ericksonienne.com/e/hypnotherapie-de-lenfant-module-1-2/
LOCATION:60 rue Carnot\, Boulogne-Billancourt\, 92100 \, France
CATEGORIES:Hypnothérapie de l'enfant
END:VEVENT
END:VCALENDAR