BEGIN:VCALENDAR
VERSION:2.0
PRODID:-//Institut Français Hypnose Humaniste &amp; Ericksonienne - ECPv4.6.2//NONSGML v1.0//EN
CALSCALE:GREGORIAN
METHOD:PUBLISH
X-WR-CALNAME:Institut Français Hypnose Humaniste &amp; Ericksonienne
X-ORIGINAL-URL:https://hypnose-ericksonienne.com
X-WR-CALDESC:Events for Institut Français Hypnose Humaniste &amp; Ericksonienne
BEGIN:VEVENT
DTSTART;TZID=Europe/Paris:20180205T080000
DTEND;TZID=Europe/Paris:20180209T170000
DTSTAMP:20260423T200101
CREATED:20170627T104042Z
LAST-MODIFIED:20180111T140911Z
UID:8882-1517817600-1518195600@hypnose-ericksonienne.com
SUMMARY:HYPNOTHERAPIE DE L'ENFANT - MODULE 2
DESCRIPTION:Module 2 \n
URL:https://hypnose-ericksonienne.com/e/hypnotherapie-de-lenfant-module-2-2/
LOCATION:60 rue Carnot\, Boulogne-Billancourt\, 92100 \, France
CATEGORIES:Hypnothérapie de l'enfant
END:VEVENT
END:VCALENDAR