BEGIN:VCALENDAR
VERSION:2.0
PRODID:-//Institut Français Hypnose Humaniste &amp; Ericksonienne - ECPv4.6.2//NONSGML v1.0//EN
CALSCALE:GREGORIAN
METHOD:PUBLISH
X-WR-CALNAME:Institut Français Hypnose Humaniste &amp; Ericksonienne
X-ORIGINAL-URL:https://hypnose-ericksonienne.com
X-WR-CALDESC:Events for Institut Français Hypnose Humaniste &amp; Ericksonienne
BEGIN:VEVENT
DTSTART;VALUE=DATE:20191209
DTEND;VALUE=DATE:20191214
DTSTAMP:20260422T211326
CREATED:20190114T150106Z
LAST-MODIFIED:20190916T125156Z
UID:9276757-1575849600-1576281599@hypnose-ericksonienne.com
SUMMARY:HYPNOTHERAPIE DE L'ENFANT - MODULE 2
DESCRIPTION:Module 2 \n
URL:https://hypnose-ericksonienne.com/e/hypnotherapie-de-lenfant-module-2-3/
LOCATION:60 rue Carnot\, Boulogne-Billancourt\, 92100 \, France
CATEGORIES:Hypnothérapie de l'enfant
END:VEVENT
END:VCALENDAR