BEGIN:VCALENDAR
VERSION:2.0
PRODID:-//Institut Français Hypnose Humaniste &amp; Ericksonienne - ECPv4.6.2//NONSGML v1.0//EN
CALSCALE:GREGORIAN
METHOD:PUBLISH
X-WR-CALNAME:Institut Français Hypnose Humaniste &amp; Ericksonienne
X-ORIGINAL-URL:https://hypnose-ericksonienne.com
X-WR-CALDESC:Events for Institut Français Hypnose Humaniste &amp; Ericksonienne
BEGIN:VEVENT
DTSTART;VALUE=DATE:20211213
DTEND;VALUE=DATE:20211218
DTSTAMP:20260419T211819
CREATED:20201126T091326Z
LAST-MODIFIED:20210215T112511Z
UID:9278215-1639353600-1639785599@hypnose-ericksonienne.com
SUMMARY:HYPNOTHERAPIE DE L'ENFANT - MODULE 2
DESCRIPTION:Module 2 \n
URL:https://hypnose-ericksonienne.com/e/hypnotherapie-de-lenfant-module-2-5/
LOCATION:60 rue Carnot\, Boulogne-Billancourt\, 92100 \, France
CATEGORIES:Hypnothérapie de l'enfant
END:VEVENT
END:VCALENDAR