BEGIN:VCALENDAR
VERSION:2.0
PRODID:-//Institut Français Hypnose Humaniste &amp; Ericksonienne - ECPv4.6.2//NONSGML v1.0//EN
CALSCALE:GREGORIAN
METHOD:PUBLISH
X-WR-CALNAME:Institut Français Hypnose Humaniste &amp; Ericksonienne
X-ORIGINAL-URL:https://hypnose-ericksonienne.com
X-WR-CALDESC:Events for Institut Français Hypnose Humaniste &amp; Ericksonienne
BEGIN:VEVENT
DTSTART;VALUE=DATE:20210927
DTEND;VALUE=DATE:20211030
DTSTAMP:20260421T101742
CREATED:20210310T081436Z
LAST-MODIFIED:20210706T101511Z
UID:9278543-1632700800-1635551999@hypnose-ericksonienne.com
SUMMARY:MAITRE PRATICIEN HH
DESCRIPTION:Nouvelle session \n
URL:https://hypnose-ericksonienne.com/e/maitre-praticien-hh-2/
LOCATION:60 rue Carnot\, Boulogne-Billancourt\, 92100 \, France
CATEGORIES:Maître Praticien HH
END:VEVENT
END:VCALENDAR