BEGIN:VCALENDAR
VERSION:2.0
PRODID:-//Institut Français Hypnose Humaniste &amp; Ericksonienne - ECPv4.6.2//NONSGML v1.0//EN
CALSCALE:GREGORIAN
METHOD:PUBLISH
X-WR-CALNAME:Institut Français Hypnose Humaniste &amp; Ericksonienne
X-ORIGINAL-URL:https://hypnose-ericksonienne.com
X-WR-CALDESC:Events for Institut Français Hypnose Humaniste &amp; Ericksonienne
BEGIN:VEVENT
DTSTART;VALUE=DATE:20210602
DTEND;VALUE=DATE:20210604
DTSTAMP:20260419T134156
CREATED:20190718T135430Z
LAST-MODIFIED:20210601T132712Z
UID:9277341-1622592000-1622764799@hypnose-ericksonienne.com
SUMMARY:Perfectionnement et révisions en mini groupe
DESCRIPTION:Confiance en soi & estime de soi \n
URL:https://hypnose-ericksonienne.com/e/perfectionnement-petit-groupe-3/
LOCATION:60 rue Carnot\, Boulogne-Billancourt\, 92100 \, France
CATEGORIES:Approfondissement et pratique en mini groupe
END:VEVENT
END:VCALENDAR