BEGIN:VCALENDAR
VERSION:2.0
PRODID:-//Institut Français Hypnose Humaniste &amp; Ericksonienne - ECPv4.6.2//NONSGML v1.0//EN
CALSCALE:GREGORIAN
METHOD:PUBLISH
X-WR-CALNAME:Institut Français Hypnose Humaniste &amp; Ericksonienne
X-ORIGINAL-URL:https://hypnose-ericksonienne.com
X-WR-CALDESC:Events for Institut Français Hypnose Humaniste &amp; Ericksonienne
BEGIN:VEVENT
DTSTART;VALUE=DATE:20201026
DTEND;VALUE=DATE:20201219
DTSTAMP:20260420T000508
CREATED:20200702T073328Z
LAST-MODIFIED:20201019T101012Z
UID:9277937-1603670400-1608335999@hypnose-ericksonienne.com
SUMMARY:PRAT 2 HE
DESCRIPTION:
URL:https://hypnose-ericksonienne.com/e/prat-2-he/
LOCATION:Adresse Toulouse...\, Toulouse\, CP...\, France
CATEGORIES:Praticien 2 HE
END:VEVENT
END:VCALENDAR