BEGIN:VCALENDAR
VERSION:2.0
PRODID:-//Institut Français Hypnose Humaniste &amp; Ericksonienne - ECPv4.6.2//NONSGML v1.0//EN
CALSCALE:GREGORIAN
METHOD:PUBLISH
X-WR-CALNAME:Institut Français Hypnose Humaniste &amp; Ericksonienne
X-ORIGINAL-URL:https://hypnose-ericksonienne.com
X-WR-CALDESC:Events for Institut Français Hypnose Humaniste &amp; Ericksonienne
BEGIN:VEVENT
DTSTART;VALUE=DATE:20210720
DTEND;VALUE=DATE:20210728
DTSTAMP:20260420T082359
CREATED:20200727T150021Z
LAST-MODIFIED:20200904T135928Z
UID:9278032-1626739200-1627430399@hypnose-ericksonienne.com
SUMMARY:PRATICIEN 1
DESCRIPTION:
URL:https://hypnose-ericksonienne.com/e/praticien-1-18/
LOCATION:Adresse à Lyon...\, Lyon\, CP...\, France
CATEGORIES:Praticien 1
END:VEVENT
END:VCALENDAR