BEGIN:VCALENDAR
VERSION:2.0
PRODID:-//Institut Français Hypnose Humaniste &amp; Ericksonienne - ECPv4.6.2//NONSGML v1.0//EN
CALSCALE:GREGORIAN
METHOD:PUBLISH
X-WR-CALNAME:Institut Français Hypnose Humaniste &amp; Ericksonienne
X-ORIGINAL-URL:https://hypnose-ericksonienne.com
X-WR-CALDESC:Events for Institut Français Hypnose Humaniste &amp; Ericksonienne
BEGIN:VEVENT
DTSTART;VALUE=DATE:20190318
DTEND;VALUE=DATE:20190326
DTSTAMP:20260422T120932
CREATED:20180323T144606Z
LAST-MODIFIED:20190204T092401Z
UID:9276199-1552867200-1553558399@hypnose-ericksonienne.com
SUMMARY:PRATICIEN 1
DESCRIPTION:
URL:https://hypnose-ericksonienne.com/e/praticien-1-3/
LOCATION:60 rue Carnot\, Boulogne-Billancourt\, 92100 \, France
CATEGORIES:Praticien 1
END:VEVENT
END:VCALENDAR