BEGIN:VCALENDAR
VERSION:2.0
PRODID:-//Institut Français Hypnose Humaniste &amp; Ericksonienne - ECPv4.6.2//NONSGML v1.0//EN
CALSCALE:GREGORIAN
METHOD:PUBLISH
X-WR-CALNAME:Institut Français Hypnose Humaniste &amp; Ericksonienne
X-ORIGINAL-URL:https://hypnose-ericksonienne.com
X-WR-CALDESC:Events for Institut Français Hypnose Humaniste &amp; Ericksonienne
BEGIN:VEVENT
DTSTART;VALUE=DATE:20190712
DTEND;VALUE=DATE:20190720
DTSTAMP:20260421T124950
CREATED:20180323T144735Z
LAST-MODIFIED:20190701T070735Z
UID:9276203-1562889600-1563580799@hypnose-ericksonienne.com
SUMMARY:PRATICIEN 1
DESCRIPTION:
URL:https://hypnose-ericksonienne.com/e/praticien-1-5/
LOCATION:60 rue Carnot\, Boulogne-Billancourt\, 92100 \, France
CATEGORIES:Praticien 1
END:VEVENT
END:VCALENDAR