BEGIN:VCALENDAR
VERSION:2.0
PRODID:-//Institut Français Hypnose Humaniste &amp; Ericksonienne - ECPv4.6.2//NONSGML v1.0//EN
CALSCALE:GREGORIAN
METHOD:PUBLISH
X-WR-CALNAME:Institut Français Hypnose Humaniste &amp; Ericksonienne
X-ORIGINAL-URL:https://hypnose-ericksonienne.com
X-WR-CALDESC:Events for Institut Français Hypnose Humaniste &amp; Ericksonienne
BEGIN:VEVENT
DTSTART;TZID=Europe/Paris:20171009T080000
DTEND;TZID=Europe/Paris:20171016T170000
DTSTAMP:20260424T064239
CREATED:20170624T085525Z
LAST-MODIFIED:20171002T081244Z
UID:8834-1507536000-1508173200@hypnose-ericksonienne.com
SUMMARY:PRATICIEN 1 - PARIS
DESCRIPTION:
URL:https://hypnose-ericksonienne.com/e/praticien-1-paris-2/
LOCATION:60 rue Carnot\, Boulogne-Billancourt\, 92100 \, France
CATEGORIES:Praticien 1
END:VEVENT
END:VCALENDAR