BEGIN:VCALENDAR
VERSION:2.0
PRODID:-//Institut Français Hypnose Humaniste &amp; Ericksonienne - ECPv4.6.2//NONSGML v1.0//EN
CALSCALE:GREGORIAN
METHOD:PUBLISH
X-WR-CALNAME:Institut Français Hypnose Humaniste &amp; Ericksonienne
X-ORIGINAL-URL:https://hypnose-ericksonienne.com
X-WR-CALDESC:Events for Institut Français Hypnose Humaniste &amp; Ericksonienne
BEGIN:VEVENT
DTSTART;TZID=Europe/Paris:20180312T080000
DTEND;TZID=Europe/Paris:20180319T170000
DTSTAMP:20260424T024232
CREATED:20170624T090030Z
LAST-MODIFIED:20170624T090212Z
UID:8838-1520841600-1521478800@hypnose-ericksonienne.com
SUMMARY:PRATICIEN 1 - PARIS
DESCRIPTION:
URL:https://hypnose-ericksonienne.com/e/praticien-1-paris-4/
LOCATION:60 rue Carnot\, Boulogne-Billancourt\, 92100 \, France
CATEGORIES:Praticien 1
END:VEVENT
END:VCALENDAR