BEGIN:VCALENDAR
VERSION:2.0
PRODID:-//Institut Français Hypnose Humaniste &amp; Ericksonienne - ECPv4.6.2//NONSGML v1.0//EN
CALSCALE:GREGORIAN
METHOD:PUBLISH
X-WR-CALNAME:Institut Français Hypnose Humaniste &amp; Ericksonienne
X-ORIGINAL-URL:https://hypnose-ericksonienne.com
X-WR-CALDESC:Events for Institut Français Hypnose Humaniste &amp; Ericksonienne
BEGIN:VEVENT
DTSTART;TZID=Europe/Paris:20180601T080000
DTEND;TZID=Europe/Paris:20180608T170000
DTSTAMP:20260423T160627
CREATED:20170624T090309Z
LAST-MODIFIED:20170624T090309Z
UID:8840-1527840000-1528477200@hypnose-ericksonienne.com
SUMMARY:PRATICIEN 1 - PARIS
DESCRIPTION:
URL:https://hypnose-ericksonienne.com/e/praticien-1-paris-5/
LOCATION:60 rue Carnot\, Boulogne-Billancourt\, 92100 \, France
CATEGORIES:Praticien 1
END:VEVENT
END:VCALENDAR