BEGIN:VCALENDAR
VERSION:2.0
PRODID:-//Institut Français Hypnose Humaniste &amp; Ericksonienne - ECPv4.6.2//NONSGML v1.0//EN
CALSCALE:GREGORIAN
METHOD:PUBLISH
X-WR-CALNAME:Institut Français Hypnose Humaniste &amp; Ericksonienne
X-ORIGINAL-URL:https://hypnose-ericksonienne.com
X-WR-CALDESC:Events for Institut Français Hypnose Humaniste &amp; Ericksonienne
BEGIN:VEVENT
DTSTART;TZID=Europe/Paris:20180711T080000
DTEND;TZID=Europe/Paris:20180718T170000
DTSTAMP:20260423T161106
CREATED:20170624T090406Z
LAST-MODIFIED:20170624T090406Z
UID:8842-1531296000-1531933200@hypnose-ericksonienne.com
SUMMARY:PRATICIEN 1 - PARIS
DESCRIPTION:
URL:https://hypnose-ericksonienne.com/e/praticien-1-paris-6/
LOCATION:60 rue Carnot\, Boulogne-Billancourt\, 92100 \, France
CATEGORIES:Praticien 1
END:VEVENT
END:VCALENDAR