BEGIN:VCALENDAR
VERSION:2.0
PRODID:-//Institut Français Hypnose Humaniste &amp; Ericksonienne - ECPv4.6.2//NONSGML v1.0//EN
CALSCALE:GREGORIAN
METHOD:PUBLISH
X-WR-CALNAME:Institut Français Hypnose Humaniste &amp; Ericksonienne
X-ORIGINAL-URL:https://hypnose-ericksonienne.com
X-WR-CALDESC:Events for Institut Français Hypnose Humaniste &amp; Ericksonienne
BEGIN:VEVENT
DTSTART;TZID=Europe/Paris:20180723T080000
DTEND;TZID=Europe/Paris:20180730T170000
DTSTAMP:20260423T131259
CREATED:20171004T113331Z
LAST-MODIFIED:20180531T085342Z
UID:9272-1532332800-1532970000@hypnose-ericksonienne.com
SUMMARY:PRATICIEN 1 - TOULOUSE
DESCRIPTION:
URL:https://hypnose-ericksonienne.com/e/praticien-1-toulouse-2/
LOCATION:Adresse Toulouse...\, Toulouse\, CP...\, France
CATEGORIES:Praticien 1
END:VEVENT
END:VCALENDAR