BEGIN:VCALENDAR
VERSION:2.0
PRODID:-//Institut Français Hypnose Humaniste &amp; Ericksonienne - ECPv4.6.2//NONSGML v1.0//EN
CALSCALE:GREGORIAN
METHOD:PUBLISH
X-WR-CALNAME:Institut Français Hypnose Humaniste &amp; Ericksonienne
X-ORIGINAL-URL:https://hypnose-ericksonienne.com
X-WR-CALDESC:Events for Institut Français Hypnose Humaniste &amp; Ericksonienne
BEGIN:VEVENT
DTSTART;TZID=Europe/Paris:20170712T080000
DTEND;TZID=Europe/Paris:20170719T170000
DTSTAMP:20260424T133251
CREATED:20170624T084736Z
LAST-MODIFIED:20200217T090229Z
UID:8828-1499846400-1500483600@hypnose-ericksonienne.com
SUMMARY:PRATICIEN 1 - TOULOUSE
DESCRIPTION:
URL:https://hypnose-ericksonienne.com/e/praticien-1-toulouse/
LOCATION:Adresse Toulouse...\, Toulouse\, CP...\, France
CATEGORIES:Praticien 1
END:VEVENT
END:VCALENDAR