BEGIN:VCALENDAR
VERSION:2.0
PRODID:-//Institut Français Hypnose Humaniste &amp; Ericksonienne - ECPv4.6.2//NONSGML v1.0//EN
CALSCALE:GREGORIAN
METHOD:PUBLISH
X-WR-CALNAME:Institut Français Hypnose Humaniste &amp; Ericksonienne
X-ORIGINAL-URL:https://hypnose-ericksonienne.com
X-WR-CALDESC:Events for Institut Français Hypnose Humaniste &amp; Ericksonienne
BEGIN:VEVENT
DTSTART;VALUE=DATE:20211129
DTEND;VALUE=DATE:20211207
DTSTAMP:20260419T181308
CREATED:20210302T145343Z
LAST-MODIFIED:20211126T084752Z
UID:9278531-1638144000-1638835199@hypnose-ericksonienne.com
SUMMARY:PRATICIEN 1
DESCRIPTION:
URL:https://hypnose-ericksonienne.com/e/praticien-1/
LOCATION:E-Learning\, France
CATEGORIES:Praticien 1
END:VEVENT
END:VCALENDAR