BEGIN:VCALENDAR
VERSION:2.0
PRODID:-//Institut Français Hypnose Humaniste &amp; Ericksonienne - ECPv4.6.2//NONSGML v1.0//EN
CALSCALE:GREGORIAN
METHOD:PUBLISH
X-WR-CALNAME:Institut Français Hypnose Humaniste &amp; Ericksonienne
X-ORIGINAL-URL:https://hypnose-ericksonienne.com
X-WR-CALDESC:Events for Institut Français Hypnose Humaniste &amp; Ericksonienne
BEGIN:VEVENT
DTSTART;VALUE=DATE:20230403
DTEND;VALUE=DATE:20230617
DTSTAMP:20260421T101743
CREATED:20220610T091248Z
LAST-MODIFIED:20230331T132940Z
UID:9279278-1680480000-1686959999@hypnose-ericksonienne.com
SUMMARY:PRATICIEN 2 HE
DESCRIPTION:
URL:https://hypnose-ericksonienne.com/e/praticien-2-he-14/
LOCATION:E-Learning\, France
CATEGORIES:Praticien 2 HE
END:VEVENT
END:VCALENDAR