BEGIN:VCALENDAR
VERSION:2.0
PRODID:-//Institut Français Hypnose Humaniste &amp; Ericksonienne - ECPv4.6.2//NONSGML v1.0//EN
CALSCALE:GREGORIAN
METHOD:PUBLISH
X-WR-CALNAME:Institut Français Hypnose Humaniste &amp; Ericksonienne
X-ORIGINAL-URL:https://hypnose-ericksonienne.com
X-WR-CALDESC:Events for Institut Français Hypnose Humaniste &amp; Ericksonienne
BEGIN:VEVENT
DTSTART;TZID=Europe/Paris:20180409T080000
DTEND;TZID=Europe/Paris:20180622T170000
DTSTAMP:20260423T235056
CREATED:20170624T092038Z
LAST-MODIFIED:20180330T091522Z
UID:8850-1523260800-1529686800@hypnose-ericksonienne.com
SUMMARY:PRATICIEN 2 HE - PARIS
DESCRIPTION:
URL:https://hypnose-ericksonienne.com/e/praticien-2-he-paris-2/
LOCATION:60 rue Carnot\, Boulogne-Billancourt\, 92100 \, France
CATEGORIES:Praticien 2 HE
END:VEVENT
END:VCALENDAR